{"text_format":"1","workbook":"xlsx","n_sheets":1,"sheets":["Lega Forum"],"not_rendered":{"charts":0,"images":0,"macros":1,"external_links":1,"defined_names":0,"comments":1,"pivot_tables":0},"unopened":[],"bounds":{"document_bytes":16777216,"sheet_cells":100000,"rows_first":2000,"rows_last":500,"rows_between":2000,"halvings":0,"cell_chars":16384,"cell_head_chars":4096},"cells_cut":0,"cells_raw":0,"read":"whole","date_system":"1900"}

{"sheet":"Lega Forum","index":0,"n_rows":134,"n_cols":49,"rows_kept":134,"cut":false,"hidden":false,"merged":[[1,46,3,50],[1,18,3,20],[0,35,0,37],[0,30,0,33],[40,4,41,4],[0,1,0,25],[0,26,0,29],[19,6,23,8],[31,6,35,8],[37,6,41,8],[40,25,41,25],[1,1,2,16],[1,22,2,37],[19,41,19,43],[20,40,20,41],[59,40,59,42],[19,27,23,29],[43,6,47,8],[31,27,35,29],[37,27,41,29],[43,27,47,29]]}
[null,"LEGA FORUM OFFICIAL H/A MATCH PREDICTOR TOOL",null,null,null,null,null,null,null,null,null,null,null,null,null,null,null,null,null,null,null,null,null,null,null,null,"Andata:",null,null,null,null,null,null,null,"-"]
[null,"         SQUADRA CASA                        ",null,null,null,null,null,null,null,null,null,null,null,null,null,null,null,null,"Simulazione",null,null,null,"         SQUADRA TRASFERTA       ",null,null,null,null,null,null,null,null,null,null,null,null,null,null,null,null,null,null,null,null,null,null,null,"Simulazione"]
[]
[null,"Rig","R","COD","GIOCATORI","GS","CS","TS","V","G","AS","AG","A","E","R+","R-","TOT",null,null,null,null,null,"Rig","R","COD","GIOCATORI","GS","CS","TS","V","G","AS","AG","A","E","R+","R-","TOT"]
[null,null,null,null,null,null,null,null,null,null,null,null,null,null,null,null,null,null,"R","Voto","Gol",null,null,null,null,null,null,null,null,null,null,null,null,null,null,null,null,null,null,null,null,null,null,null,null,null,"R","Voto","Gol"]
[1,1,null,null,null,{"$f":"IF(E6=\"\",0,(VLOOKUP(E6,[1]Foglio1!$A$2:$AN$300,8,FALSE)))","v":0},{"$f":"IF(E6=\"\",0,(VLOOKUP(E6,[1]Foglio1!$A$2:$AN$300,9,FALSE)))","v":0},{"$f":"IF(E6=\"\",0,(VLOOKUP(E6,[1]Foglio1!$A$2:$AN$300,10,FALSE)))","v":0},{"$f":" IF((F6+G6+H6)=0,0,(F6+G6+H6)/COUNTA(F6:H6))","v":0},{"$f":"IF(E6=\"\",0,(VLOOKUP(E6,[1]Foglio1!$A$2:$AN$300,18,FALSE)))","v":0},{"$f":"IF(E6=\"\",0,(VLOOKUP(E6,[1]Foglio1!$A$2:$AN$300,28,FALSE)))","v":0},{"$f":"IF(E6=\"\",0,(VLOOKUP(E6,[1]Foglio1!$A$2:$AN$300,23,FALSE)))","v":0},{"$f":"IF(E6=\"\",0,(VLOOKUP(E6,[1]Foglio1!$A$2:$AN$300,30,FALSE)))","v":0},{"$f":"IF(E6=\"\",0,(VLOOKUP(E6,[1]Foglio1!$A$2:$AN$300,32,FALSE)))","v":0},{"$f":"IF(E6=\"\",0,(VLOOKUP(E6,[1]Foglio1!$A$2:$AN$300,38,FALSE)))","v":0},{"$f":"IF(E6=\"\",0,(VLOOKUP(E6,[1]Foglio1!$A$2:$AN$300,34,FALSE)))","v":0},{"$f":"(I6-(J6*1)+(K6*0.5)-(L6*2)-(M6*0.25)-(N6*0.75)+(O6*3)-(P6*2))","v":0},null,"P",null,null,null,1,"P",null,null,{"$f":"IF(Z6=\"\",0,(VLOOKUP(Z6,[1]Foglio1!$A$2:$AN$300,8,FALSE)))","v":0},{"$f":"IF(Z6=\"\",0,(VLOOKUP(Z6,[1]Foglio1!$A$2:$AN$300,9,FALSE)))","v":0},{"$f":"IF(Z6=\"\",0,(VLOOKUP(Z6,[1]Foglio1!$A$2:$AN$300,10,FALSE)))","v":0},{"$f":" IF((AA6+AB6+AC6)=0,0,(AA6+AB6+AC6)/COUNTA(AA6:AC6))","v":0},{"$f":"IF(Z6=\"\",0,(VLOOKUP(Z6,[1]Foglio1!$A$2:$AN$300,18,FALSE)))","v":0},{"$f":"IF(Z6=\"\",0,(VLOOKUP(Z6,[1]Foglio1!$A$2:$AN$300,28,FALSE)))","v":0},{"$f":"IF(Z6=\"\",0,(VLOOKUP(Z6,[1]Foglio1!$A$2:$AN$300,23,FALSE)))","v":0},{"$f":"IF(Z6=\"\",0,(VLOOKUP(Z6,[1]Foglio1!$A$2:$AN$300,30,FALSE)))","v":0},{"$f":"IF(Z6=\"\",0,(VLOOKUP(Z6,[1]Foglio1!$A$2:$AN$300,32,FALSE)))","v":0},{"$f":"IF(Z6=\"\",0,(VLOOKUP(Z6,[1]Foglio1!$A$2:$AN$300,38,FALSE)))","v":0},{"$f":"IF(Z6=\"\",0,(VLOOKUP(Z6,[1]Foglio1!$A$2:$AN$300,34,FALSE)))","v":0},{"$f":"(AD6-(AE6*1)+(AF6*0.5)-(AG6*2)-(AH6*0.25)-(AI6*0.75)+(AJ6*3)-(AK6*2))","v":0},null,null,null,null,null,null,null,null,"P"]
[2,2,"D",null,null,{"$f":"IF(E7=\"\",0,(VLOOKUP(E7,[1]Foglio1!$A$2:$AN$300,8,FALSE)))","v":0},{"$f":"IF(E7=\"\",0,(VLOOKUP(E7,[1]Foglio1!$A$2:$AN$300,9,FALSE)))","v":0},{"$f":"IF(E7=\"\",0,(VLOOKUP(E7,[1]Foglio1!$A$2:$AN$300,10,FALSE)))","v":0},{"$f":" IF((F7+G7+H7)=0,0,(F7+G7+H7)/COUNTA(F7:H7))","v":0},{"$f":"IF(E7=\"\",0,(VLOOKUP(E7,[1]Foglio1!$A$2:$AN$300,16,FALSE)))","v":0},{"$f":"IF(E7=\"\",0,(VLOOKUP(E7,[1]Foglio1!$A$2:$AN$300,28,FALSE)))","v":0},{"$f":"IF(E7=\"\",0,(VLOOKUP(E7,[1]Foglio1!$A$2:$AN$300,23,FALSE)))","v":0},{"$f":"IF(E7=\"\",0,(VLOOKUP(E7,[1]Foglio1!$A$2:$AN$300,30,FALSE)))","v":0},{"$f":"IF(E7=\"\",0,(VLOOKUP(E7,[1]Foglio1!$A$2:$AN$300,32,FALSE)))","v":0},{"$f":"IF(E7=\"\",0,(VLOOKUP(E7,[1]Foglio1!$A$2:$AN$300,34,FALSE)))","v":0},{"$f":"IF(E7=\"\",0,(VLOOKUP(E7,[1]Foglio1!$A$2:$AN$300,36,FALSE)))","v":0},{"$f":"(I7+(J7*3)+(K7*0.5)-(L7*2)-(M7*0.25)-(N7*0.75)+(O7*2)-(P7*2))","v":0},null,null,null,null,null,2,null,null,null,{"$f":"IF(Z7=\"\",0,(VLOOKUP(Z7,[1]Foglio1!$A$2:$AN$300,8,FALSE)))","v":0},{"$f":"IF(Z7=\"\",0,(VLOOKUP(Z7,[1]Foglio1!$A$2:$AN$300,9,FALSE)))","v":0},{"$f":"IF(Z7=\"\",0,(VLOOKUP(Z7,[1]Foglio1!$A$2:$AN$300,10,FALSE)))","v":0},{"$f":" IF((AA7+AB7+AC7)=0,0,(AA7+AB7+AC7)/COUNTA(AA7:AC7))","v":0},{"$f":"IF(Z7=\"\",0,(VLOOKUP(Z7,[1]Foglio1!$A$2:$AN$300,16,FALSE)))","v":0},{"$f":"IF(Z7=\"\",0,(VLOOKUP(Z7,[1]Foglio1!$A$2:$AN$300,28,FALSE)))","v":0},{"$f":"IF(Z7=\"\",0,(VLOOKUP(Z7,[1]Foglio1!$A$2:$AN$300,23,FALSE)))","v":0},{"$f":"IF(Z7=\"\",0,(VLOOKUP(Z7,[1]Foglio1!$A$2:$AN$300,30,FALSE)))","v":0},{"$f":"IF(Z7=\"\",0,(VLOOKUP(Z7,[1]Foglio1!$A$2:$AN$300,32,FALSE)))","v":0},{"$f":"IF(Z7=\"\",0,(VLOOKUP(Z7,[1]Foglio1!$A$2:$AN$300,34,FALSE)))","v":0},{"$f":"IF(Z7=\"\",0,(VLOOKUP(Z7,[1]Foglio1!$A$2:$AN$300,36,FALSE)))","v":0},{"$f":"(AD7+(AE7*3)+(AF7*0.5)-(AG7*2)-(AH7*0.25)-(AI7*0.75)+(AJ7*2)-(AK7*2))","v":0},null,null,"Media voto difensori"]
[3,3,"D",null,null,{"$f":"IF(E8=\"\",0,(VLOOKUP(E8,[1]Foglio1!$A$2:$AN$300,8,FALSE)))","v":0},{"$f":"IF(E8=\"\",0,(VLOOKUP(E8,[1]Foglio1!$A$2:$AN$300,9,FALSE)))","v":0},{"$f":"IF(E8=\"\",0,(VLOOKUP(E8,[1]Foglio1!$A$2:$AN$300,10,FALSE)))","v":0},{"$f":" IF((F8+G8+H8)=0,0,(F8+G8+H8)/COUNTA(F8:H8))","v":0},{"$f":"IF(E8=\"\",0,(VLOOKUP(E8,[1]Foglio1!$A$2:$AN$300,16,FALSE)))","v":0},{"$f":"IF(E8=\"\",0,(VLOOKUP(E8,[1]Foglio1!$A$2:$AN$300,28,FALSE)))","v":0},{"$f":"IF(E8=\"\",0,(VLOOKUP(E8,[1]Foglio1!$A$2:$AN$300,23,FALSE)))","v":0},{"$f":"IF(E8=\"\",0,(VLOOKUP(E8,[1]Foglio1!$A$2:$AN$300,30,FALSE)))","v":0},{"$f":"IF(E8=\"\",0,(VLOOKUP(E8,[1]Foglio1!$A$2:$AN$300,32,FALSE)))","v":0},{"$f":"IF(E8=\"\",0,(VLOOKUP(E8,[1]Foglio1!$A$2:$AN$300,34,FALSE)))","v":0},{"$f":"IF(E8=\"\",0,(VLOOKUP(E8,[1]Foglio1!$A$2:$AN$300,36,FALSE)))","v":0},{"$f":"(I8+(J8*3)+(K8*0.5)-(L8*2)-(M8*0.25)-(N8*0.75)+(O8*2)-(P8*2))","v":0},null,null,null,null,null,3,"D",null,null,{"$f":"IF(Z8=\"\",0,(VLOOKUP(Z8,[1]Foglio1!$A$2:$AN$300,8,FALSE)))","v":0},{"$f":"IF(Z8=\"\",0,(VLOOKUP(Z8,[1]Foglio1!$A$2:$AN$300,9,FALSE)))","v":0},{"$f":"IF(Z8=\"\",0,(VLOOKUP(Z8,[1]Foglio1!$A$2:$AN$300,10,FALSE)))","v":0},0,{"$f":"IF(Z8=\"\",0,(VLOOKUP(Z8,[1]Foglio1!$A$2:$AN$300,16,FALSE)))","v":0},{"$f":"IF(Z8=\"\",0,(VLOOKUP(Z8,[1]Foglio1!$A$2:$AN$300,28,FALSE)))","v":0},{"$f":"IF(Z8=\"\",0,(VLOOKUP(Z8,[1]Foglio1!$A$2:$AN$300,23,FALSE)))","v":0},{"$f":"IF(Z8=\"\",0,(VLOOKUP(Z8,[1]Foglio1!$A$2:$AN$300,30,FALSE)))","v":0},{"$f":"IF(Z8=\"\",0,(VLOOKUP(Z8,[1]Foglio1!$A$2:$AN$300,32,FALSE)))","v":0},{"$f":"IF(Z8=\"\",0,(VLOOKUP(Z8,[1]Foglio1!$A$2:$AN$300,34,FALSE)))","v":0},{"$f":"IF(Z8=\"\",0,(VLOOKUP(Z8,[1]Foglio1!$A$2:$AN$300,36,FALSE)))","v":0},{"$f":"(AD8+(AE8*3)+(AF8*0.5)-(AG8*2)-(AH8*0.25)-(AI8*0.75)+(AJ8*2)-(AK8*2))","v":0},null,null,"Da","a"]
[4,4,"D",null,null,{"$f":"IF(E9=\"\",0,(VLOOKUP(E9,[1]Foglio1!$A$2:$AN$300,8,FALSE)))","v":0},{"$f":"IF(E9=\"\",0,(VLOOKUP(E9,[1]Foglio1!$A$2:$AN$300,9,FALSE)))","v":0},{"$f":"IF(E9=\"\",0,(VLOOKUP(E9,[1]Foglio1!$A$2:$AN$300,10,FALSE)))","v":0},0,{"$f":"IF(E9=\"\",0,(VLOOKUP(E9,[1]Foglio1!$A$2:$AN$300,16,FALSE)))","v":0},{"$f":"IF(E9=\"\",0,(VLOOKUP(E9,[1]Foglio1!$A$2:$AN$300,28,FALSE)))","v":0},{"$f":"IF(E9=\"\",0,(VLOOKUP(E9,[1]Foglio1!$A$2:$AN$300,23,FALSE)))","v":0},{"$f":"IF(E9=\"\",0,(VLOOKUP(E9,[1]Foglio1!$A$2:$AN$300,30,FALSE)))","v":0},{"$f":"IF(E9=\"\",0,(VLOOKUP(E9,[1]Foglio1!$A$2:$AN$300,32,FALSE)))","v":0},{"$f":"IF(E9=\"\",0,(VLOOKUP(E9,[1]Foglio1!$A$2:$AN$300,34,FALSE)))","v":0},{"$f":"IF(E9=\"\",0,(VLOOKUP(E9,[1]Foglio1!$A$2:$AN$300,36,FALSE)))","v":0},0,null,null,null,null,null,4,"D",null,null,{"$f":"IF(Z9=\"\",0,(VLOOKUP(Z9,[1]Foglio1!$A$2:$AN$300,8,FALSE)))","v":0},{"$f":"IF(Z9=\"\",0,(VLOOKUP(Z9,[1]Foglio1!$A$2:$AN$300,9,FALSE)))","v":0},{"$f":"IF(Z9=\"\",0,(VLOOKUP(Z9,[1]Foglio1!$A$2:$AN$300,10,FALSE)))","v":0},0,{"$f":"IF(Z9=\"\",0,(VLOOKUP(Z9,[1]Foglio1!$A$2:$AN$300,16,FALSE)))","v":0},{"$f":"IF(Z9=\"\",0,(VLOOKUP(Z9,[1]Foglio1!$A$2:$AN$300,28,FALSE)))","v":0},{"$f":"IF(Z9=\"\",0,(VLOOKUP(Z9,[1]Foglio1!$A$2:$AN$300,23,FALSE)))","v":0},{"$f":"IF(Z9=\"\",0,(VLOOKUP(Z9,[1]Foglio1!$A$2:$AN$300,30,FALSE)))","v":0},{"$f":"IF(Z9=\"\",0,(VLOOKUP(Z9,[1]Foglio1!$A$2:$AN$300,32,FALSE)))","v":0},{"$f":"IF(Z9=\"\",0,(VLOOKUP(Z9,[1]Foglio1!$A$2:$AN$300,34,FALSE)))","v":0},{"$f":"IF(Z9=\"\",0,(VLOOKUP(Z9,[1]Foglio1!$A$2:$AN$300,36,FALSE)))","v":0},0,null,null,0,5,4]
[5,5,null,null,null,{"$f":"IF(E10=\"\",0,(VLOOKUP(E10,[1]Foglio1!$A$2:$AN$300,8,FALSE)))","v":0},{"$f":"IF(E10=\"\",0,(VLOOKUP(E10,[1]Foglio1!$A$2:$AN$300,9,FALSE)))","v":0},{"$f":"IF(E10=\"\",0,(VLOOKUP(E10,[1]Foglio1!$A$2:$AN$300,10,FALSE)))","v":0},0,{"$f":"IF(E10=\"\",0,(VLOOKUP(E10,[1]Foglio1!$A$2:$AN$300,16,FALSE)))","v":0},{"$f":"IF(E10=\"\",0,(VLOOKUP(E10,[1]Foglio1!$A$2:$AN$300,28,FALSE)))","v":0},{"$f":"IF(E10=\"\",0,(VLOOKUP(E10,[1]Foglio1!$A$2:$AN$300,23,FALSE)))","v":0},{"$f":"IF(E10=\"\",0,(VLOOKUP(E10,[1]Foglio1!$A$2:$AN$300,30,FALSE)))","v":0},{"$f":"IF(E10=\"\",0,(VLOOKUP(E10,[1]Foglio1!$A$2:$AN$300,32,FALSE)))","v":0},{"$f":"IF(E10=\"\",0,(VLOOKUP(E10,[1]Foglio1!$A$2:$AN$300,34,FALSE)))","v":0},{"$f":"IF(E10=\"\",0,(VLOOKUP(E10,[1]Foglio1!$A$2:$AN$300,36,FALSE)))","v":0},0,null,null,null,null,null,5,"C",null,null,{"$f":"IF(Z10=\"\",0,(VLOOKUP(Z10,[1]Foglio1!$A$2:$AN$300,8,FALSE)))","v":0},{"$f":"IF(Z10=\"\",0,(VLOOKUP(Z10,[1]Foglio1!$A$2:$AN$300,9,FALSE)))","v":0},{"$f":"IF(Z10=\"\",0,(VLOOKUP(Z10,[1]Foglio1!$A$2:$AN$300,10,FALSE)))","v":0},0,{"$f":"IF(Z10=\"\",0,(VLOOKUP(Z10,[1]Foglio1!$A$2:$AN$300,16,FALSE)))","v":0},{"$f":"IF(Z10=\"\",0,(VLOOKUP(Z10,[1]Foglio1!$A$2:$AN$300,28,FALSE)))","v":0},{"$f":"IF(Z10=\"\",0,(VLOOKUP(Z10,[1]Foglio1!$A$2:$AN$300,23,FALSE)))","v":0},{"$f":"IF(Z10=\"\",0,(VLOOKUP(Z10,[1]Foglio1!$A$2:$AN$300,30,FALSE)))","v":0},{"$f":"IF(Z10=\"\",0,(VLOOKUP(Z10,[1]Foglio1!$A$2:$AN$300,32,FALSE)))","v":0},{"$f":"IF(Z10=\"\",0,(VLOOKUP(Z10,[1]Foglio1!$A$2:$AN$300,34,FALSE)))","v":0},{"$f":"IF(Z10=\"\",0,(VLOOKUP(Z10,[1]Foglio1!$A$2:$AN$300,36,FALSE)))","v":0},0,null,null,5.01,5.25,3]
[6,6,"C",null,null,{"$f":"IF(E11=\"\",0,(VLOOKUP(E11,[1]Foglio1!$A$2:$AN$300,8,FALSE)))","v":0},{"$f":"IF(E11=\"\",0,(VLOOKUP(E11,[1]Foglio1!$A$2:$AN$300,9,FALSE)))","v":0},{"$f":"IF(E11=\"\",0,(VLOOKUP(E11,[1]Foglio1!$A$2:$AN$300,10,FALSE)))","v":0},0,{"$f":"IF(E11=\"\",0,(VLOOKUP(E11,[1]Foglio1!$A$2:$AN$300,16,FALSE)))","v":0},{"$f":"IF(E11=\"\",0,(VLOOKUP(E11,[1]Foglio1!$A$2:$AN$300,28,FALSE)))","v":0},{"$f":"IF(E11=\"\",0,(VLOOKUP(E11,[1]Foglio1!$A$2:$AN$300,23,FALSE)))","v":0},{"$f":"IF(E11=\"\",0,(VLOOKUP(E11,[1]Foglio1!$A$2:$AN$300,30,FALSE)))","v":0},{"$f":"IF(E11=\"\",0,(VLOOKUP(E11,[1]Foglio1!$A$2:$AN$300,32,FALSE)))","v":0},{"$f":"IF(E11=\"\",0,(VLOOKUP(E11,[1]Foglio1!$A$2:$AN$300,34,FALSE)))","v":0},{"$f":"IF(E11=\"\",0,(VLOOKUP(E11,[1]Foglio1!$A$2:$AN$300,36,FALSE)))","v":0},0,null,null,null,null,null,6,"C",null,null,{"$f":"IF(Z11=\"\",0,(VLOOKUP(Z11,[1]Foglio1!$A$2:$AN$300,8,FALSE)))","v":0},{"$f":"IF(Z11=\"\",0,(VLOOKUP(Z11,[1]Foglio1!$A$2:$AN$300,9,FALSE)))","v":0},{"$f":"IF(Z11=\"\",0,(VLOOKUP(Z11,[1]Foglio1!$A$2:$AN$300,10,FALSE)))","v":0},0,{"$f":"IF(Z11=\"\",0,(VLOOKUP(Z11,[1]Foglio1!$A$2:$AN$300,16,FALSE)))","v":0},{"$f":"IF(Z11=\"\",0,(VLOOKUP(Z11,[1]Foglio1!$A$2:$AN$300,28,FALSE)))","v":0},{"$f":"IF(Z11=\"\",0,(VLOOKUP(Z11,[1]Foglio1!$A$2:$AN$300,23,FALSE)))","v":0},{"$f":"IF(Z11=\"\",0,(VLOOKUP(Z11,[1]Foglio1!$A$2:$AN$300,30,FALSE)))","v":0},{"$f":"IF(Z11=\"\",0,(VLOOKUP(Z11,[1]Foglio1!$A$2:$AN$300,32,FALSE)))","v":0},{"$f":"IF(Z11=\"\",0,(VLOOKUP(Z11,[1]Foglio1!$A$2:$AN$300,34,FALSE)))","v":0},{"$f":"IF(Z11=\"\",0,(VLOOKUP(Z11,[1]Foglio1!$A$2:$AN$300,36,FALSE)))","v":0},0,null,null,5.26,5.5,2]
[7,7,null,null,null,{"$f":"IF(E12=\"\",0,(VLOOKUP(E12,[1]Foglio1!$A$2:$AN$300,8,FALSE)))","v":0},{"$f":"IF(E12=\"\",0,(VLOOKUP(E12,[1]Foglio1!$A$2:$AN$300,9,FALSE)))","v":0},{"$f":"IF(E12=\"\",0,(VLOOKUP(E12,[1]Foglio1!$A$2:$AN$300,10,FALSE)))","v":0},0,{"$f":"IF(E12=\"\",0,(VLOOKUP(E12,[1]Foglio1!$A$2:$AN$300,16,FALSE)))","v":0},{"$f":"IF(E12=\"\",0,(VLOOKUP(E12,[1]Foglio1!$A$2:$AN$300,28,FALSE)))","v":0},{"$f":"IF(E12=\"\",0,(VLOOKUP(E12,[1]Foglio1!$A$2:$AN$300,23,FALSE)))","v":0},{"$f":"IF(E12=\"\",0,(VLOOKUP(E12,[1]Foglio1!$A$2:$AN$300,30,FALSE)))","v":0},{"$f":"IF(E12=\"\",0,(VLOOKUP(E12,[1]Foglio1!$A$2:$AN$300,32,FALSE)))","v":0},{"$f":"IF(E12=\"\",0,(VLOOKUP(E12,[1]Foglio1!$A$2:$AN$300,34,FALSE)))","v":0},{"$f":"IF(E12=\"\",0,(VLOOKUP(E12,[1]Foglio1!$A$2:$AN$300,36,FALSE)))","v":0},0,null,null,null,null,null,7,"C",null,null,{"$f":"IF(Z12=\"\",0,(VLOOKUP(Z12,[1]Foglio1!$A$2:$AN$300,8,FALSE)))","v":0},{"$f":"IF(Z12=\"\",0,(VLOOKUP(Z12,[1]Foglio1!$A$2:$AN$300,9,FALSE)))","v":0},{"$f":"IF(Z12=\"\",0,(VLOOKUP(Z12,[1]Foglio1!$A$2:$AN$300,10,FALSE)))","v":0},0,{"$f":"IF(Z12=\"\",0,(VLOOKUP(Z12,[1]Foglio1!$A$2:$AN$300,16,FALSE)))","v":0},{"$f":"IF(Z12=\"\",0,(VLOOKUP(Z12,[1]Foglio1!$A$2:$AN$300,28,FALSE)))","v":0},{"$f":"IF(Z12=\"\",0,(VLOOKUP(Z12,[1]Foglio1!$A$2:$AN$300,23,FALSE)))","v":0},{"$f":"IF(Z12=\"\",0,(VLOOKUP(Z12,[1]Foglio1!$A$2:$AN$300,30,FALSE)))","v":0},{"$f":"IF(Z12=\"\",0,(VLOOKUP(Z12,[1]Foglio1!$A$2:$AN$300,32,FALSE)))","v":0},{"$f":"IF(Z12=\"\",0,(VLOOKUP(Z12,[1]Foglio1!$A$2:$AN$300,34,FALSE)))","v":0},{"$f":"IF(Z12=\"\",0,(VLOOKUP(Z12,[1]Foglio1!$A$2:$AN$300,36,FALSE)))","v":0},0,null,null,5.51,5.75,1]
[8,8,"C",null,null,{"$f":"IF(E13=\"\",0,(VLOOKUP(E13,[1]Foglio1!$A$2:$AN$300,8,FALSE)))","v":0},{"$f":"IF(E13=\"\",0,(VLOOKUP(E13,[1]Foglio1!$A$2:$AN$300,9,FALSE)))","v":0},{"$f":"IF(E13=\"\",0,(VLOOKUP(E13,[1]Foglio1!$A$2:$AN$300,10,FALSE)))","v":0},0,{"$f":"IF(E13=\"\",0,(VLOOKUP(E13,[1]Foglio1!$A$2:$AN$300,16,FALSE)))","v":0},{"$f":"IF(E13=\"\",0,(VLOOKUP(E13,[1]Foglio1!$A$2:$AN$300,28,FALSE)))","v":0},{"$f":"IF(E13=\"\",0,(VLOOKUP(E13,[1]Foglio1!$A$2:$AN$300,23,FALSE)))","v":0},{"$f":"IF(E13=\"\",0,(VLOOKUP(E13,[1]Foglio1!$A$2:$AN$300,30,FALSE)))","v":0},{"$f":"IF(E13=\"\",0,(VLOOKUP(E13,[1]Foglio1!$A$2:$AN$300,32,FALSE)))","v":0},{"$f":"IF(E13=\"\",0,(VLOOKUP(E13,[1]Foglio1!$A$2:$AN$300,34,FALSE)))","v":0},{"$f":"IF(E13=\"\",0,(VLOOKUP(E13,[1]Foglio1!$A$2:$AN$300,36,FALSE)))","v":0},0,null,null,null,null,null,8,"C",null,null,{"$f":"IF(Z13=\"\",0,(VLOOKUP(Z13,[1]Foglio1!$A$2:$AN$300,8,FALSE)))","v":0},{"$f":"IF(Z13=\"\",0,(VLOOKUP(Z13,[1]Foglio1!$A$2:$AN$300,9,FALSE)))","v":0},{"$f":"IF(Z13=\"\",0,(VLOOKUP(Z13,[1]Foglio1!$A$2:$AN$300,10,FALSE)))","v":0},0,{"$f":"IF(Z13=\"\",0,(VLOOKUP(Z13,[1]Foglio1!$A$2:$AN$300,16,FALSE)))","v":0},{"$f":"IF(Z13=\"\",0,(VLOOKUP(Z13,[1]Foglio1!$A$2:$AN$300,28,FALSE)))","v":0},{"$f":"IF(Z13=\"\",0,(VLOOKUP(Z13,[1]Foglio1!$A$2:$AN$300,23,FALSE)))","v":0},{"$f":"IF(Z13=\"\",0,(VLOOKUP(Z13,[1]Foglio1!$A$2:$AN$300,30,FALSE)))","v":0},{"$f":"IF(Z13=\"\",0,(VLOOKUP(Z13,[1]Foglio1!$A$2:$AN$300,32,FALSE)))","v":0},{"$f":"IF(Z13=\"\",0,(VLOOKUP(Z13,[1]Foglio1!$A$2:$AN$300,34,FALSE)))","v":0},{"$f":"IF(Z13=\"\",0,(VLOOKUP(Z13,[1]Foglio1!$A$2:$AN$300,36,FALSE)))","v":0},0,null,null,5.76,6,0]
[9,9,"C",null,null,{"$f":"IF(E14=\"\",0,(VLOOKUP(E14,[1]Foglio1!$A$2:$AN$300,8,FALSE)))","v":0},{"$f":"IF(E14=\"\",0,(VLOOKUP(E14,[1]Foglio1!$A$2:$AN$300,9,FALSE)))","v":0},{"$f":"IF(E14=\"\",0,(VLOOKUP(E14,[1]Foglio1!$A$2:$AN$300,10,FALSE)))","v":0},0,{"$f":"IF(E14=\"\",0,(VLOOKUP(E14,[1]Foglio1!$A$2:$AN$300,16,FALSE)))","v":0},{"$f":"IF(E14=\"\",0,(VLOOKUP(E14,[1]Foglio1!$A$2:$AN$300,28,FALSE)))","v":0},{"$f":"IF(E14=\"\",0,(VLOOKUP(E14,[1]Foglio1!$A$2:$AN$300,23,FALSE)))","v":0},{"$f":"IF(E14=\"\",0,(VLOOKUP(E14,[1]Foglio1!$A$2:$AN$300,30,FALSE)))","v":0},{"$f":"IF(E14=\"\",0,(VLOOKUP(E14,[1]Foglio1!$A$2:$AN$300,32,FALSE)))","v":0},{"$f":"IF(E14=\"\",0,(VLOOKUP(E14,[1]Foglio1!$A$2:$AN$300,34,FALSE)))","v":0},{"$f":"IF(E14=\"\",0,(VLOOKUP(E14,[1]Foglio1!$A$2:$AN$300,36,FALSE)))","v":0},0,null,null,null,null,null,9,null,null,null,{"$f":"IF(Z14=\"\",0,(VLOOKUP(Z14,[1]Foglio1!$A$2:$AN$300,8,FALSE)))","v":0},{"$f":"IF(Z14=\"\",0,(VLOOKUP(Z14,[1]Foglio1!$A$2:$AN$300,9,FALSE)))","v":0},{"$f":"IF(Z14=\"\",0,(VLOOKUP(Z14,[1]Foglio1!$A$2:$AN$300,10,FALSE)))","v":0},0,{"$f":"IF(Z14=\"\",0,(VLOOKUP(Z14,[1]Foglio1!$A$2:$AN$300,16,FALSE)))","v":0},{"$f":"IF(Z14=\"\",0,(VLOOKUP(Z14,[1]Foglio1!$A$2:$AN$300,28,FALSE)))","v":0},{"$f":"IF(Z14=\"\",0,(VLOOKUP(Z14,[1]Foglio1!$A$2:$AN$300,23,FALSE)))","v":0},{"$f":"IF(Z14=\"\",0,(VLOOKUP(Z14,[1]Foglio1!$A$2:$AN$300,30,FALSE)))","v":0},{"$f":"IF(Z14=\"\",0,(VLOOKUP(Z14,[1]Foglio1!$A$2:$AN$300,32,FALSE)))","v":0},{"$f":"IF(Z14=\"\",0,(VLOOKUP(Z14,[1]Foglio1!$A$2:$AN$300,34,FALSE)))","v":0},{"$f":"IF(Z14=\"\",0,(VLOOKUP(Z14,[1]Foglio1!$A$2:$AN$300,36,FALSE)))","v":0},0,null,null,6.01,6.25,-1]
[10,10,"A",null,null,{"$f":"IF(E15=\"\",0,(VLOOKUP(E15,[1]Foglio1!$A$2:$AN$300,8,FALSE)))","v":0},{"$f":"IF(E15=\"\",0,(VLOOKUP(E15,[1]Foglio1!$A$2:$AN$300,9,FALSE)))","v":0},{"$f":"IF(E15=\"\",0,(VLOOKUP(E15,[1]Foglio1!$A$2:$AN$300,10,FALSE)))","v":0},0,{"$f":"IF(E15=\"\",0,(VLOOKUP(E15,[1]Foglio1!$A$2:$AN$300,16,FALSE)))","v":0},{"$f":"IF(E15=\"\",0,(VLOOKUP(E15,[1]Foglio1!$A$2:$AN$300,28,FALSE)))","v":0},{"$f":"IF(E15=\"\",0,(VLOOKUP(E15,[1]Foglio1!$A$2:$AN$300,23,FALSE)))","v":0},{"$f":"IF(E15=\"\",0,(VLOOKUP(E15,[1]Foglio1!$A$2:$AN$300,30,FALSE)))","v":0},{"$f":"IF(E15=\"\",0,(VLOOKUP(E15,[1]Foglio1!$A$2:$AN$300,32,FALSE)))","v":0},{"$f":"IF(E15=\"\",0,(VLOOKUP(E15,[1]Foglio1!$A$2:$AN$300,34,FALSE)))","v":0},{"$f":"IF(E15=\"\",0,(VLOOKUP(E15,[1]Foglio1!$A$2:$AN$300,36,FALSE)))","v":0},0,null,null,null,null,null,10,null,null,null,{"$f":"IF(Z15=\"\",0,(VLOOKUP(Z15,[1]Foglio1!$A$2:$AN$300,8,FALSE)))","v":0},{"$f":"IF(Z15=\"\",0,(VLOOKUP(Z15,[1]Foglio1!$A$2:$AN$300,9,FALSE)))","v":0},{"$f":"IF(Z15=\"\",0,(VLOOKUP(Z15,[1]Foglio1!$A$2:$AN$300,10,FALSE)))","v":0},0,{"$f":"IF(Z15=\"\",0,(VLOOKUP(Z15,[1]Foglio1!$A$2:$AN$300,16,FALSE)))","v":0},{"$f":"IF(Z15=\"\",0,(VLOOKUP(Z15,[1]Foglio1!$A$2:$AN$300,28,FALSE)))","v":0},{"$f":"IF(Z15=\"\",0,(VLOOKUP(Z15,[1]Foglio1!$A$2:$AN$300,23,FALSE)))","v":0},{"$f":"IF(Z15=\"\",0,(VLOOKUP(Z15,[1]Foglio1!$A$2:$AN$300,30,FALSE)))","v":0},{"$f":"IF(Z15=\"\",0,(VLOOKUP(Z15,[1]Foglio1!$A$2:$AN$300,32,FALSE)))","v":0},{"$f":"IF(Z15=\"\",0,(VLOOKUP(Z15,[1]Foglio1!$A$2:$AN$300,34,FALSE)))","v":0},{"$f":"IF(Z15=\"\",0,(VLOOKUP(Z15,[1]Foglio1!$A$2:$AN$300,36,FALSE)))","v":0},0,null,null,6.26,6.5,-2]
[11,11,null,null,null,{"$f":"IF(E16=\"\",0,(VLOOKUP(E16,[1]Foglio1!$A$2:$AN$300,8,FALSE)))","v":0},{"$f":"IF(E16=\"\",0,(VLOOKUP(E16,[1]Foglio1!$A$2:$AN$300,9,FALSE)))","v":0},{"$f":"IF(E16=\"\",0,(VLOOKUP(E16,[1]Foglio1!$A$2:$AN$300,10,FALSE)))","v":0},0,{"$f":"IF(E16=\"\",0,(VLOOKUP(E16,[1]Foglio1!$A$2:$AN$300,16,FALSE)))","v":0},{"$f":"IF(E16=\"\",0,(VLOOKUP(E16,[1]Foglio1!$A$2:$AN$300,28,FALSE)))","v":0},{"$f":"IF(E16=\"\",0,(VLOOKUP(E16,[1]Foglio1!$A$2:$AN$300,23,FALSE)))","v":0},{"$f":"IF(E16=\"\",0,(VLOOKUP(E16,[1]Foglio1!$A$2:$AN$300,30,FALSE)))","v":0},{"$f":"IF(E16=\"\",0,(VLOOKUP(E16,[1]Foglio1!$A$2:$AN$300,32,FALSE)))","v":0},{"$f":"IF(E16=\"\",0,(VLOOKUP(E16,[1]Foglio1!$A$2:$AN$300,34,FALSE)))","v":0},{"$f":"IF(E16=\"\",0,(VLOOKUP(E16,[1]Foglio1!$A$2:$AN$300,36,FALSE)))","v":0},0,null,null,null,null,null,11,"A",null,null,{"$f":"IF(Z16=\"\",0,(VLOOKUP(Z16,[1]Foglio1!$A$2:$AN$300,8,FALSE)))","v":0},{"$f":"IF(Z16=\"\",0,(VLOOKUP(Z16,[1]Foglio1!$A$2:$AN$300,9,FALSE)))","v":0},{"$f":"IF(Z16=\"\",0,(VLOOKUP(Z16,[1]Foglio1!$A$2:$AN$300,10,FALSE)))","v":0},0,{"$f":"IF(Z16=\"\",0,(VLOOKUP(Z16,[1]Foglio1!$A$2:$AN$300,16,FALSE)))","v":0},{"$f":"IF(Z16=\"\",0,(VLOOKUP(Z16,[1]Foglio1!$A$2:$AN$300,28,FALSE)))","v":0},{"$f":"IF(Z16=\"\",0,(VLOOKUP(Z16,[1]Foglio1!$A$2:$AN$300,23,FALSE)))","v":0},{"$f":"IF(Z16=\"\",0,(VLOOKUP(Z16,[1]Foglio1!$A$2:$AN$300,30,FALSE)))","v":0},{"$f":"IF(Z16=\"\",0,(VLOOKUP(Z16,[1]Foglio1!$A$2:$AN$300,32,FALSE)))","v":0},{"$f":"IF(Z16=\"\",0,(VLOOKUP(Z16,[1]Foglio1!$A$2:$AN$300,34,FALSE)))","v":0},{"$f":"IF(Z16=\"\",0,(VLOOKUP(Z16,[1]Foglio1!$A$2:$AN$300,36,FALSE)))","v":0},0,null,null,6.51,6.75,-3]
[null,12,"P",null,null,null,null,null,null,null,null,null,null,null,null,null,null,null,null,null,null,null,12,"P",null,null,null,null,null,null,null,null,null,null,null,null,null,null,null,null,6.76,7,-4]
[null,13,"P",null,null,null,null,null,null,null,null,null,null,null,"RISERVA UFF.",null,0,null,null,null,null,null,13,"A",null,null,null,null,null,null,null,null,null,null,null,"RISERVA UFF.",null,0,null,null,7.01,"infinito",-5]
[null,14,"D",null,null,null,null,null,null,null,null,null,null,null,null,null,{"$f":"SUM(Q6:Q18,T6:T16)+(SUM(U6:U16)*3)","v":0},null,null,null,null,null,14,"A",null,null,null,null,null,null,null,null,null,null,null,null,null,{"$f":"SUM(AL6:AL18,AV6:AV16)+(SUM(AW6:AW16)*3)","v":0}]
[null,15,"D",null,null,null,{"$f":"I78","v":0},null,null,null,null,null,null,null,null,null,null,null,null,null,null,null,15,"C",null,null,null,{"$f":"AD78","v":0},null,null,null,null,null,null,null,null,null,null,null,null,null,"Modificatori Centrocampo"]
[null,16,"D",null,null,null,null,null,null,null,null,null,null,null,"MOD. DIFESA",null,{"$f":"I62","v":6},null,null,null,null,null,16,"C",null,null,null,null,null,null,null,null,null,null,null,"MOD. DIFESA",null,{"$f":"AD62","v":5},null,null,"Differenza",null,"alla +","alla -"]
[null,17,"C",null,null,null,null,null,null,null,null,null,null,null,"MOD. CENTRO",null,{"$f":"I72","v":2},null,null,null,null,null,17,"D",null,null,null,null,null,null,null,null,null,null,null,"MOD. CENTRO",null,{"$f":"AD72","v":-2},null,null,"0<x<",1,0,0]
[null,18,"C",null,null,null,null,null,null,null,null,null,null,null,"MOD. ATTACCO",null,{"$f":"SUM(G82:G84,K82:K84)","v":0},null,null,null,null,null,18,"D",null,null,null,null,null,null,null,null,null,null,null,"MOD. ATTACCO",null,{"$f":"SUM(AB82:AB84,AF82:AF84)","v":0},null,null,"1<x<",2,0.5,-0.5]
[null,19,"C",null,null,null,null,null,null,null,null,null,null,null,"FATT. CAMPO",null,0,null,null,null,null,null,19,"D",null,null,null,null,null,null,null,null,null,null,null,"FATT. CAMPO",null,0,null,null,"2<x<",3,1,-1]
[null,20,"A",null,null,null,null,null,null,null,null,null,null,null,null,null,{"$f":"SUM(Q21:Q24)+Q19","v":8},null,null,null,null,null,20,"D",null,null,null,null,null,null,null,null,null,null,null,null,null,{"$f":"SUM(AL21:AL24)+AL19","v":3},null,null,"3<x<",4,1.5,-1.5]
[]
[null,null,"D",null,null,{"$f":"IF(E27=\"\",0,VLOOKUP(E27,[1]Foglio1!$A$2:$AN$300,8,FALSE))","v":0},{"$f":"IF(E27=\"\",0,VLOOKUP(E27,[1]Foglio1!$A$2:$AN$300,9,FALSE))","v":0},{"$f":"IF(E27=\"\",0,VLOOKUP(E27,[1]Foglio1!$A$2:$AN$300,10,FALSE))","v":0},{"$f":" IF((F27+G27+H27)=0,0,(F27+G27+H27)/COUNTA(F27:H27))","v":0},{"$f":"IF(E27=\"\",0,VLOOKUP(E27,[1]Foglio1!$A$2:$AN$300,16,FALSE))","v":0},{"$f":"IF(E27=\"\",0,VLOOKUP(E27,[1]Foglio1!$A$2:$AN$300,28,FALSE))","v":0},{"$f":"IF(E27=\"\",0,VLOOKUP(E27,[1]Foglio1!$A$2:$AN$300,23,FALSE))","v":0},{"$f":"IF(E27=\"\",0,VLOOKUP(E27,[1]Foglio1!$A$2:$AN$300,30,FALSE))","v":0},{"$f":"IF(E27=\"\",0,VLOOKUP(E27,[1]Foglio1!$A$2:$AN$300,32,FALSE))","v":0},{"$f":"IF(E27=\"\",0,VLOOKUP(E27,[1]Foglio1!$A$2:$AN$300,34,FALSE))","v":0},{"$f":"IF(E27=\"\",0,VLOOKUP(E27,[1]Foglio1!$A$2:$AN$300,36,FALSE))","v":0},{"$f":"(I27+(J27*3)+(K27*0.5)-(L27*2)-(M27*0.25)-(N27*0.75)+(O27*2)-(P27*2))","v":0},null,null,null,null,null,null,"D",null,null,{"$f":"IF(Z27=\"\",0,VLOOKUP(Z27,[1]Foglio1!$A$2:$AN$300,8,FALSE))","v":0},{"$f":"IF(Z27=\"\",0,VLOOKUP(Z27,[1]Foglio1!$A$2:$AN$300,9,FALSE))","v":0},{"$f":"IF(Z27=\"\",0,VLOOKUP(Z27,[1]Foglio1!$A$2:$AN$300,10,FALSE))","v":0},{"$f":" IF((AA27+AB27+AC27)=0,0,(AA27+AB27+AC27)/COUNTA(AA27:AC27))","v":0},{"$f":"IF(Z27=\"\",0,VLOOKUP(Z27,[1]Foglio1!$A$2:$AN$300,16,FALSE))","v":0},{"$f":"IF(Z27=\"\",0,VLOOKUP(Z27,[1]Foglio1!$A$2:$AN$300,28,FALSE))","v":0},{"$f":"IF(Z27=\"\",0,VLOOKUP(Z27,[1]Foglio1!$A$2:$AN$300,23,FALSE))","v":0},{"$f":"IF(Z27=\"\",0,VLOOKUP(Z27,[1]Foglio1!$A$2:$AN$300,30,FALSE))","v":0},{"$f":"IF(Z27=\"\",0,VLOOKUP(Z27,[1]Foglio1!$A$2:$AN$300,32,FALSE))","v":0},{"$f":"IF(Z27=\"\",0,VLOOKUP(Z27,[1]Foglio1!$A$2:$AN$300,34,FALSE))","v":0},{"$f":"IF(Z27=\"\",0,VLOOKUP(Z27,[1]Foglio1!$A$2:$AN$300,36,FALSE))","v":0},{"$f":"(AD27+(AE27*3)+(AF27*0.5)-(AG27*2)-(AH27*0.25)-(AI27*0.75)+(AJ27*2)-(AK27*2))","v":0}]
[null,null,"C",null,null,{"$f":"IF(E28=\"\",0,VLOOKUP(E28,[1]Foglio1!$A$2:$AN$300,8,FALSE))","v":0},{"$f":"IF(E28=\"\",0,VLOOKUP(E28,[1]Foglio1!$A$2:$AN$300,9,FALSE))","v":0},{"$f":"IF(E28=\"\",0,VLOOKUP(E28,[1]Foglio1!$A$2:$AN$300,10,FALSE))","v":0},{"$f":" IF((F28+G28+H28)=0,0,(F28+G28+H28)/COUNTA(F28:H28))","v":0},{"$f":"IF(E28=\"\",0,VLOOKUP(E28,[1]Foglio1!$A$2:$AN$300,16,FALSE))","v":0},{"$f":"IF(E28=\"\",0,VLOOKUP(E28,[1]Foglio1!$A$2:$AN$300,28,FALSE))","v":0},{"$f":"IF(E28=\"\",0,VLOOKUP(E28,[1]Foglio1!$A$2:$AN$300,23,FALSE))","v":0},{"$f":"IF(E28=\"\",0,VLOOKUP(E28,[1]Foglio1!$A$2:$AN$300,30,FALSE))","v":0},{"$f":"IF(E28=\"\",0,VLOOKUP(E28,[1]Foglio1!$A$2:$AN$300,32,FALSE))","v":0},{"$f":"IF(E28=\"\",0,VLOOKUP(E28,[1]Foglio1!$A$2:$AN$300,34,FALSE))","v":0},{"$f":"IF(E28=\"\",0,VLOOKUP(E28,[1]Foglio1!$A$2:$AN$300,36,FALSE))","v":0},{"$f":"(I28+(J28*3)+(K28*0.5)-(L28*2)-(M28*0.25)-(N28*0.75)+(O28*2)-(P28*2))","v":0},null,null,null,null,null,null,"C",null,null,{"$f":"IF(Z28=\"\",0,VLOOKUP(Z28,[1]Foglio1!$A$2:$AN$300,8,FALSE))","v":0},{"$f":"IF(Z28=\"\",0,VLOOKUP(Z28,[1]Foglio1!$A$2:$AN$300,9,FALSE))","v":0},{"$f":"IF(Z28=\"\",0,VLOOKUP(Z28,[1]Foglio1!$A$2:$AN$300,10,FALSE))","v":0},{"$f":" IF((AA28+AB28+AC28)=0,0,(AA28+AB28+AC28)/COUNTA(AA28:AC28))","v":0},{"$f":"IF(Z28=\"\",0,VLOOKUP(Z28,[1]Foglio1!$A$2:$AN$300,16,FALSE))","v":0},{"$f":"IF(Z28=\"\",0,VLOOKUP(Z28,[1]Foglio1!$A$2:$AN$300,28,FALSE))","v":0},{"$f":"IF(Z28=\"\",0,VLOOKUP(Z28,[1]Foglio1!$A$2:$AN$300,23,FALSE))","v":0},{"$f":"IF(Z28=\"\",0,VLOOKUP(Z28,[1]Foglio1!$A$2:$AN$300,30,FALSE))","v":0},{"$f":"IF(Z28=\"\",0,VLOOKUP(Z28,[1]Foglio1!$A$2:$AN$300,32,FALSE))","v":0},{"$f":"IF(Z28=\"\",0,VLOOKUP(Z28,[1]Foglio1!$A$2:$AN$300,34,FALSE))","v":0},{"$f":"IF(Z28=\"\",0,VLOOKUP(Z28,[1]Foglio1!$A$2:$AN$300,36,FALSE))","v":0},{"$f":"(AD28+(AE28*3)+(AF28*0.5)-(AG28*2)-(AH28*0.25)-(AI28*0.75)+(AJ28*2)-(AK28*2))","v":0}]
[null,null,"A",null,null,{"$f":"IF(E29=\"\",0,VLOOKUP(E29,[1]Foglio1!$A$2:$AN$300,8,FALSE))","v":0},{"$f":"IF(E29=\"\",0,VLOOKUP(E29,[1]Foglio1!$A$2:$AN$300,9,FALSE))","v":0},{"$f":"IF(D29=\"\",0,VLOOKUP(D29,[1]Foglio1!$A$2:$AN$300,10,FALSE))","v":0},{"$f":" IF((F29+G29+H29)=0,0,(F29+G29+H29)/COUNTA(F29:H29))","v":0},{"$f":"IF(D29=\"\",0,VLOOKUP(D29,[1]Foglio1!$A$2:$AN$300,16,FALSE))","v":0},{"$f":"IF(D29=\"\",0,VLOOKUP(D29,[1]Foglio1!$A$2:$AN$300,28,FALSE))","v":0},{"$f":"IF(D29=\"\",0,VLOOKUP(D29,[1]Foglio1!$A$2:$AN$300,23,FALSE))","v":0},{"$f":"IF(D29=\"\",0,VLOOKUP(D29,[1]Foglio1!$A$2:$AN$300,30,FALSE))","v":0},{"$f":"IF(D29=\"\",0,VLOOKUP(D29,[1]Foglio1!$A$2:$AN$300,32,FALSE))","v":0},{"$f":"IF(D29=\"\",0,VLOOKUP(D29,[1]Foglio1!$A$2:$AN$300,34,FALSE))","v":0},{"$f":"IF(D29=\"\",0,VLOOKUP(D29,[1]Foglio1!$A$2:$AN$300,36,FALSE))","v":0},{"$f":"(I29+(J29*3)+(K29*0.5)-(L29*2)-(M29*0.25)-(N29*0.75)+(O29*2)-(P29*2))","v":0},null,null,null,null,null,null,"A",null,null,{"$f":"IF(Z29=\"\",0,VLOOKUP(Z29,[1]Foglio1!$A$2:$AN$300,8,FALSE))","v":0},{"$f":"IF(Z29=\"\",0,VLOOKUP(Z29,[1]Foglio1!$A$2:$AN$300,9,FALSE))","v":0},{"$f":"IF(Z29=\"\",0,VLOOKUP(Z29,[1]Foglio1!$A$2:$AN$300,10,FALSE))","v":0},{"$f":" IF((AA29+AB29+AC29)=0,0,(AA29+AB29+AC29)/COUNTA(AA29:AC29))","v":0},{"$f":"IF(Z29=\"\",0,VLOOKUP(Z29,[1]Foglio1!$A$2:$AN$300,16,FALSE))","v":0},{"$f":"IF(Z29=\"\",0,VLOOKUP(Z29,[1]Foglio1!$A$2:$AN$300,28,FALSE))","v":0},{"$f":"IF(Z29=\"\",0,VLOOKUP(Z29,[1]Foglio1!$A$2:$AN$300,23,FALSE))","v":0},{"$f":"IF(Z29=\"\",0,VLOOKUP(Z29,[1]Foglio1!$A$2:$AN$300,30,FALSE))","v":0},{"$f":"IF(Z29=\"\",0,VLOOKUP(Z29,[1]Foglio1!$A$2:$AN$300,32,FALSE))","v":0},{"$f":"IF(Z29=\"\",0,VLOOKUP(Z29,[1]Foglio1!$A$2:$AN$300,34,FALSE))","v":0},{"$f":"IF(Z29=\"\",0,VLOOKUP(Z29,[1]Foglio1!$A$2:$AN$300,36,FALSE))","v":0},{"$f":"(AD29+(AE29*3)+(AF29*0.5)-(AG29*2)-(AH29*0.25)-(AI29*0.75)+(AJ29*2)-(AK29*2))","v":0}]
[null,null,null,null,null,null,null,null,null,null,null,null,null,null,"FATT. CAMPO",null,0.5,null,null,null,null,null,null,null,null,null,null,null,null,null,null,null,null,null,null,"FATT. CAMPO",null,0]
[null,null,null,null,null,null,null,null,null,null,null,null,null,null,null,null,{"$f":"SUM(Q27:Q29)+Q30","v":0.5},null,null,null,null,null,null,null,null,null,null,null,null,null,null,null,null,null,null,null,null,{"$f":"SUM(AL27:AL29)+AL30","v":0}]
[null,null,null,null,null,null,{"$f":"IF(G20+AE1*2=AB20*2+AJ1,I86,\"\")","v":0},null,null,null,null,null,null,null,null,null,null,null,null,null,null,null,null,null,null,null,null,{"$f":"IF(G20+AE1*2=AB20*2+AJ1,AD86,\"\")","v":0}]
[]
[null,null,null,null,"TEMPI SUPPLEMENTARI",null,null,null,null,null,null,null,null,null,null,null,null,null,null,null,null,null,null,null,null,"TEMPI SUPPLEMENTARI"]
[]
[]
[]
[null,null,null,null,null,null,{"$f":"IF(AND(G32=AB32,G20+(AE1*2)=(AB20*2)+AJ1),G32+F134,\"\")","v":0},null,null,null,null,null,null,null,null,null,null,null,null,null,null,null,null,null,null,null,null,{"$f":"IF(AND(AB32=G32,G20+AE1*2=AB20*2+AJ1),AB32+AA134,\"\")","v":0}]
[]
[null,null,null,null,"RIGORI",null,null,null,null,null,null,null,null,null,null,null,null,null,null,null,null,null,null,null,null,"RIGORI"]
[null,null,null,null,"(ordinare i rigoristi in campo dall'1 all'11, considerando anche le sostituzioni effettuate)",null,null,null,null,null,null,null,null,null,null,null,null,null,null,null,null,null,null,null,null,"(ordinare i rigoristi in campo dall'1 all'11, considerando anche le sostituzioni effettuate)"]
[]
[]
[null,null,null,null,null,null,{"$f":"SUM(G20,G32,G38)","v":0},null,null,null,null,null,null,null,null,null,null,null,null,null,null,null,null,null,null,null,null,{"$f":"SUM(AB20,AB32,AB38)","v":0}]
[]
[null,null,null,null,"FINALE",null,null,null,null,null,null,null,null,null,null,null,null,null,null,null,null,null,null,null,null,"FINALE"]
[]
[]
[null,null,null,null,null,null,null,null,null,null,null,null,null,null,null,null,null,null,null,null,null,null,null,null,null,null,null,null,null,null,null,null,null,null,null,null,null,null,null,null,"4<x<",5,2,-2]
[null,null,null,null,null,null,null,null,null,null,null,null,null,null,null,null,null,null,null,null,null,null,null,null,null,null,null,null,null,null,null,null,null,"Gibi&Fox Productions 2015",null,null,null,null,null,null,"5<x<",6,2.5,-2.5]
[null,null,null,null,null,null,null,null,null,null,null,null,null,null,null,null,null,null,null,null,null,null,null,null,null,null,null,null,null,null,null,null,null,null,null,null,null,null,null,null,"6<x<",7,3,-3]
[null,null,"1)",null,"Fate copia incolla dal file excel delle formazioni per i nomi dei giocatori ed inserite il Ruolo (P,D,C,A)",null,null,null,null,null,null,null,null,null,null,null,null,null,null,null,null,null,null,null,null,null,null,null,null,null,null,null,null,null,null,null,null,null,null,null,"7<x<",8,3.5,-3.5]
[null,null,"2)",null,"le riserve che dovessere diventare titolari vanno inserite a mano nella formazione titolare",null,null,null,null,null,null,null,null,null,null,null,null,null,null,null,null,null,null,null,null,null,null,null,null,null,null,null,null,null,null,null,null,null,null,null,"x>",8,4,-4]
[null,null,"3)",null,"i rigoristi vanno inseriti esclusivamente dall'1 all'11. In caso di subentro, far scivolare manualmente le posizioni."]
[]
[]
[null,null,null,null,null,null,null,null,null,{"$f":"IF(S7=\"D\",T7,\"\")","v":""},null,{"$f":"IF(S8=\"D\",T8,\"\")","v":""},{"$f":"IF(S9=\"D\",T9,\"\")","v":""},{"$f":"IF(S10=\"D\",T10,\"\")","v":""},{"$f":"IF(S11=\"D\",T11,\"\")","v":""},{"$f":"IF(S12=\"D\",T12,\"\")","v":""},null,null,null,null,null,null,null,null,null,null,null,null,null,null,{"$f":"IF(AU7=\"D\",AV7,\"\")","v":""},null,{"$f":"IF(AU8=\"D\",AW8,\"\")","v":""},{"$f":"IF(AU9=\"D\",AW9,\"\")","v":""},{"$f":"IF(AU10=\"D\",AV10,\"\")","v":""},{"$f":"IF(AU11=\"D\",AV11,\"\")","v":""},{"$f":"IF(AU12=\"D\",AV12,\"\")","v":""}]
[null,null,null,null,"Difensori schierati",null,null,null,{"$f":"COUNTIF(C6:C16,\"D\")+COUNTIF(S6:S16,\"D\")","v":3},{"$f":"IF(C7=\"D\",I7,\"\")","v":0},null,{"$f":"IF(C8=\"D\",I8,\"\")","v":0},{"$f":"IF(C9=\"D\",I9,\"\")","v":0},{"$f":"IF(C10=\"D\",I10,\"\")","v":""},{"$f":"IF(C11=\"D\",I11,\"\")","v":""},{"$f":"IF(C12=\"D\",I12,\"\")","v":""},null,null,null,null,null,null,null,null,null,"Difensori schierati",null,null,null,{"$f":"COUNTIF(X6:X16,\"D\")+COUNTIF(AU6:AU16,\"D\")","v":2},{"$f":"IF(X7=\"D\",AD7,\"\")","v":""},null,{"$f":"IF(X8=\"D\",AD8,\"\")","v":0},{"$f":"IF(X9=\"D\",AD9,\"\")","v":0},{"$f":"IF(X10=\"D\",AD10,\"\")","v":""},{"$f":"IF(X11=\"D\",AD11,\"\")","v":""},{"$f":"IF(X12=\"D\",AD12,\"\")","v":""}]
[null,null,null,null,"Media propria difesa",null,null,null,{"$f":"AVERAGE(J57:P58)+0.001","v":1E-3},null,null,null,null,null,null,null,null,null,null,null,null,null,null,null,null,"Media propria difesa",null,null,null,{"$f":"AVERAGE(AE57:AK58)+0.001","v":1E-3}]
[null,null,null,null,"Modificatore da media Avversario",null,null,null,{"$f":"IF(AD59<5,4,IF(AD59>=7,-5,IF((AD59)<=6,INT(-(AD59-6)*4),INT(-(AD59-6)*4))))","v":4},null,null,null,null,null,null,null,null,null,null,null,null,null,null,null,null,"Modificatore da media Avversario",null,null,null,{"$f":"IF(I59<5,4,IF(I59>=7,-5,IF((I59)<=6,INT(-(I59-6)*4),INT(-(I59-6)*4))))","v":4},null,null,null,null,null,null,null,null,null,null,"Punteggio finale"]
[null,null,null,null,"Modificatore da numero Avversario",null,null,null,{"$f":"-AD58+4","v":2},null,null,null,null,null,null,null,null,null,null,null,null,null,null,null,null,"Modificatore da numero Avversario",null,null,null,{"$f":"-I58+4","v":1}]
[null,null,null,null,"Modificatore Difesa",null,null,null,{"$f":"SUM(I61,I60)","v":6},null,null,null,null,null,null,null,null,null,null,null,null,null,null,null,null,"Modificatore Difesa",null,null,null,{"$f":"SUM(AD61,AD60)","v":5},null,null,null,null,null,null,null,null,null,null,null,66,0]
[null,null,null,null,null,null,null,null,null,{"$f":"IF(S10=\"C\",T10,\"\")","v":""},null,{"$f":"IF(S11=\"C\",T11,\"\")","v":""},{"$f":"IF(S12=\"C\",T12,\"\")","v":""},{"$f":"IF(S13=\"C\",T13,\"\")","v":""},{"$f":"IF(S14=\"C\",T14,\"\")","v":""},{"$f":"IF(S15=\"C\",T15,\"\")","v":""},null,null,null,null,null,null,null,null,null,null,null,null,null,null,{"$f":"IF(AU10=\"C\",AV10,\"\")","v":""},null,{"$f":"IF(AU11=\"C\",AV11,\"\")","v":""},{"$f":"IF(AU12=\"C\",AV12,\"\")","v":""},{"$f":"IF(AU13=\"C\",AV13,\"\")","v":""},{"$f":"IF(AU14=\"C\",AV14,\"\")","v":""},{"$f":"IF(AU15=\"C\",AV15,\"\")","v":""},null,null,null,null,72,1]
[null,null,null,null,"Centrocampisti schierati",null,null,null,{"$f":"COUNTIF(C6:C16,\"C\")+COUNTIF(S6:S16,\"C\")","v":3},{"$f":"IF(C10=\"C\",I10,\"\")","v":""},null,{"$f":"IF(C11=\"C\",I11,\"\")","v":0},{"$f":"IF(C12=\"c\",I12,\"\")","v":""},{"$f":"IF(C13=\"C\",I13,\"\")","v":0},{"$f":"IF(C14=\"C\",I14,\"\")","v":0},{"$f":"IF(C15=\"C\",I15,\"\")","v":""},null,null,null,null,null,null,null,null,null,"Centrocampisti schierati",null,null,null,{"$f":"COUNTIF(X6:X16,\"C\")+COUNTIF(AU6:AU16,\"C\")","v":4},{"$f":"IF(X10=\"C\",AD10,\"\")","v":0},null,{"$f":"IF(X11=\"C\",AD11,\"\")","v":0},{"$f":"IF(X12=\"c\",AD12,\"\")","v":0},{"$f":"IF(X13=\"C\",AD13,\"\")","v":0},{"$f":"IF(X14=\"C\",AD14,\"\")","v":""},{"$f":"IF(X15=\"C\",AD15,\"\")","v":""}]
[null,null,null,null,"Totale Voto centrocampo",null,null,null,{"$f":"SUM(J63:P64)","v":0},null,null,null,null,null,null,null,null,null,null,null,null,null,null,null,null,"Totale Voto centrocampo",null,null,null,{"$f":"SUM(AE63:AK64)","v":0}]
[null,null,null,null,"Confronto fra numero centrocampisti",null,null,null,{"$f":"I64-AD64","v":-1},null,null,null,null,null,null,null,null,null,null,null,null,null,null,null,null,"Confronto fra numero centrocampisti",null,null,null,{"$f":"AD64-I64","v":1},null,null,null,null,null,null,null,null,null,null,null,78,2]
[null,null,null,null,"valore da aggiungere al totale",null,null,null,{"$f":"IF(I66<0,-I66*4.75,0)","v":4.75},null,null,null,null,null,null,null,null,null,null,null,null,null,null,null,null,"valore da aggiungere al totale",null,null,null,{"$f":"IF(AD66<0,-AD66*4.75,0)","v":0},null,null,null,null,null,null,null,null,null,null,null,84,3]
[null,null,null,null,"Totale Corretto Centrocampo",null,null,null,{"$f":"I65+I67","v":4.75},null,null,null,null,null,null,null,null,null,null,null,null,null,null,null,null,"Totale Corretto Centrocampo",null,null,null,{"$f":"AD65+AD67","v":0},null,null,null,null,null,null,null,null,null,null,null,90,4]
[null,null,null,null,null,"Differenza fra totali",null,null,{"$f":"I68-AD68","v":4.75},null,null,null,null,null,null,null,null,null,null,null,null,null,null,null,null,"Differenza fra totali",null,null,null,{"$f":"AD68-I68","v":-4.75},null,null,null,null,null,null,null,null,null,null,null,96,5]
[null,null,null,null,null,"Mod con B in vantaggio",null,null,{"$f":"IF(I69<=0,-INT(-I69)*0.5,0)","v":0},null,null,null,null,null,null,null,null,null,null,null,null,null,null,null,null,"Mod con B in vantaggio",null,null,null,{"$f":"IF(AD69>=0,INT(AD69)*0.5,0)","v":0},null,null,null,null,null,null,null,null,null,null,null,102,6]
[null,null,null,null,null,"Mod con A in vantaggio",null,null,{"$f":"IF(I69>=0,INT(I69)*0.5,0)","v":2},null,null,null,null,null,null,null,null,null,null,null,null,null,null,null,null,"Mod con A in vantaggio",null,null,null,{"$f":"IF(AD69<=0,-INT(-AD69)*0.5,0)","v":-2}]
[null,null,null,null,"Modificatore centroc.",null,null,null,{"$f":"IF(I69<-7.999,-4,IF(I69>7.999,4,SUM(I70:I71)))","v":2},null,null,null,null,null,null,null,null,null,null,null,null,null,null,null,null,"Modificatore centroc.",null,null,null,{"$f":"IF(AD69<-7.999,-4,IF(AD69>7.999,4,SUM(AD70:AD71)))","v":-2}]
[]
[null,null,null,null,"Punteggio finale netto",null,null,null,{"$f":"IF(Q25<66,0,INT((Q25-66)/6)+1)","v":0},null,null,null,null,null,null,null,null,null,null,null,null,null,null,null,null,"Punteggio finale netto",null,null,null,{"$f":"IF(AL25<66,0,INT((AL25-66)/6)+1)","v":0}]
[null,null,null,null,"Differenza di 4",null,null,null,{"$f":"IF(AND(Q24>=66,J75>4),1,0)","v":0},{"$f":"IF(I74=AD74,Q24-AL24,0)","v":0},null,null,null,null,null,null,null,null,null,null,null,null,null,null,null,"Differenza di 4",null,null,null,{"$f":"IF(AND(AL24>=66,AE75>4),1,0)","v":0},{"$f":"IF(AD74=I74,AL24-Q24,0)","v":0}]
[null,null,null,null,"Differenza di 10",null,null,null,{"$f":"IF((Q25-AL25)>10,1,0)","v":0},null,null,null,null,null,null,null,null,null,null,null,null,null,null,null,null,"Differenza di 10",null,null,null,{"$f":"IF((AL25-Q25)>10,1,0)","v":0}]
[null,null,null,null,"Avversario sotto i 60",null,null,null,{"$f":"IF(AND(Q25>(AL25+6),AL25<60),1,0)","v":0},null,null,null,null,null,null,null,null,null,null,null,null,null,null,null,null,"Avversario sotto i 60",null,null,null,{"$f":"IF(AND(AL25>(Q25+6),Q25<60),1,0)","v":0}]
[null,null,null,null,"Punteggio finale",null,null,null,{"$f":"SUM(I74:I77)","v":0},null,null,null,null,null,null,null,null,null,null,null,null,null,null,null,null,"Punteggio finale",null,null,null,{"$f":"SUM(AD74:AD77)","v":0}]
[]
[]
[null,null,null,null,"mod attacco",null,null,null,null,null,null,null,null,null,null,null,null,null,null,null,null,null,null,null,null,"mod attacco"]
[null,null,null,null,{"$f":"IF(AND(C14=\"A\",SUM(J14,O14)<0.000001),I14,0)","v":0},null,{"$f":"IF(E82>7.999,2,IF(E82>7.49999,1.5,IF(E82>6.99999,1,IF(E82>6.49999,0.5,0))))","v":0},null,{"$f":"IF(AND(S14=\"A\",U14<0.000001),T14,0)","v":0},null,{"$f":"IF(I82>7.999,2,IF(I82>7.49999,1.5,IF(I82>6.99999,1,IF(I82>6.49999,0.5,0))))","v":0},null,null,null,null,null,null,null,null,null,null,null,null,null,null,{"$f":"IF(AND(X14=\"A\",SUM(AE14,AJ14)<0.000001),AD14,0)","v":0},null,{"$f":"IF(Z82>7.999,2,IF(Z82>7.49999,1.5,IF(Z82>6.99999,1,IF(Z82>6.49999,0.5,0))))","v":0},null,{"$f":"IF(AND(AU14=\"A\",AW14<0.000001),AV14,0)","v":0},null,{"$f":"IF(AD82>7.999,2,IF(AD82>7.49999,1.5,IF(AD82>6.99999,1,IF(AD82>6.49999,0.5,0))))","v":0}]
[null,null,null,null,{"$f":"IF(AND(C15=\"A\",SUM(J15,O15)<0.000001),I15,0)","v":0},null,{"$f":"IF(E83>7.999,2,IF(E83>7.49999,1.5,IF(E83>6.99999,1,IF(E83>6.49999,0.5,0))))","v":0},null,{"$f":"IF(AND(S15=\"A\",U15<0.000001),T15,0)","v":0},null,{"$f":"IF(I83>7.999,2,IF(I83>7.49999,1.5,IF(I83>6.99999,1,IF(I83>6.49999,0.5,0))))","v":0},null,null,null,null,null,null,null,null,null,null,null,null,null,null,{"$f":"IF(AND(X15=\"A\",SUM(AE15,AJ15)<0.000001),AD15,0)","v":0},null,{"$f":"IF(Z83>7.999,2,IF(Z83>7.49999,1.5,IF(Z83>6.99999,1,IF(Z83>6.49999,0.5,0))))","v":0},null,{"$f":"IF(AND(AU15=\"A\",AW15<0.000001),AV15,0)","v":0},null,{"$f":"IF(AD83>7.999,2,IF(AD83>7.49999,1.5,IF(AD83>6.99999,1,IF(AD83>6.49999,0.5,0))))","v":0}]
[null,null,null,null,{"$f":"IF(AND(C16=\"A\",SUM(J16,O16)<0.000001),I16,0)","v":0},null,{"$f":"IF(E84>7.999,2,IF(E84>7.49999,1.5,IF(E84>6.99999,1,IF(E84>6.49999,0.5,0))))","v":0},null,{"$f":"IF(AND(S16=\"A\",U16<0.000001),T16,0)","v":0},null,{"$f":"IF(I84>7.999,2,IF(I84>7.49999,1.5,IF(I84>6.99999,1,IF(I84>6.49999,0.5,0))))","v":0},null,null,null,null,null,null,null,null,null,null,null,null,null,null,{"$f":"IF(AND(X16=\"A\",SUM(AE16,AJ16)<0.000001),AD16,0)","v":0},null,{"$f":"IF(Z84>7.999,2,IF(Z84>7.49999,1.5,IF(Z84>6.99999,1,IF(Z84>6.49999,0.5,0))))","v":0},null,{"$f":"IF(AND(AU16=\"A\",AW16<0.000001),AV16,0)","v":0},null,{"$f":"IF(AD84>7.999,2,IF(AD84>7.49999,1.5,IF(AD84>6.99999,1,IF(AD84>6.49999,0.5,0))))","v":0}]
[]
[null,null,null,null,"Punteggio finale TS",null,null,null,{"$f":"IF(Q31<20,0,INT((Q31-20)/4)+1)","v":0},null,null,null,null,null,null,null,null,null,null,null,null,null,null,null,null,"Punteggio finale TS",null,null,null,{"$f":"IF(AL31<20,0,INT((AL31-20)/4)+1)","v":0}]
[]
[null,null,null,null,"Calcolo rigori",1,2,3,4,5,null,6,7,8,9,10,11,null,null,null,null,null,null,null,null,"Calcolo rigori",1,2,3,4,5,null,6,7,8,9,10,11]
[null,null,null,null,null,{"$f":"VLOOKUP(1,$B$6:$R$16,7,FALSE)","v":0},{"$f":"VLOOKUP(2,$B$6:$R$16,7,FALSE)","v":0},{"$f":"VLOOKUP(3,$B$6:$R$16,7,FALSE)","v":0},{"$f":"VLOOKUP(4,$B$6:$R$16,7,FALSE)","v":0},{"$f":"VLOOKUP(5,$B$6:$R$16,7,FALSE)","v":0},null,{"$f":"VLOOKUP(6,$B$6:$R$16,7,FALSE)","v":0},{"$f":"VLOOKUP(7,$B$6:$R$16,7,FALSE)","v":0},{"$f":"VLOOKUP(8,$B$6:$R$16,7,FALSE)","v":0},{"$f":"VLOOKUP(9,$B$6:$R$16,7,FALSE)","v":0},{"$f":"VLOOKUP(10,$B$6:$R$16,7,FALSE)","v":0},{"$f":"VLOOKUP(11,$B$6:$R$16,7,FALSE)","v":0},null,null,null,null,null,null,null,null,null,{"$f":"VLOOKUP(1,$W$6:$AM$16,7,FALSE)","v":0},{"$f":"VLOOKUP(2,$W$6:$AM$16,7,FALSE)","v":0},{"$f":"VLOOKUP(3,$W$6:$AM$16,7,FALSE)","v":0},{"$f":"VLOOKUP(4,$W$6:$AM$16,7,FALSE)","v":0},{"$f":"VLOOKUP(5,$W$6:$AM$16,7,FALSE)","v":0},null,{"$f":"VLOOKUP(6,$W$6:$AM$16,7,FALSE)","v":0},{"$f":"VLOOKUP(7,$W$6:$AM$16,7,FALSE)","v":0},{"$f":"VLOOKUP(8,$W$6:$AM$16,7,FALSE)","v":0},{"$f":"VLOOKUP(9,$W$6:$AM$16,7,FALSE)","v":0},{"$f":"VLOOKUP(10,$W$6:$AM$16,7,FALSE)","v":0},{"$f":"VLOOKUP(11,$W$6:$AM$16,7,FALSE)","v":0}]
[null,null,null,null,null,{"$f":"IF(F89>5.999,1,0)","v":0},{"$f":"IF(G89>5.999,1,0)","v":0},0,0,0,null,0,0,0,0,0,0,null,null,null,null,null,null,null,null,null,{"$f":"IF(AA89>5.999,1,0)","v":0},0,0,0,0,null,0,0,0,0,0,0]
[null,null,null,null,null,{"$f":"IF(F89>6.499,1,0)","v":0},{"$f":"IF(G89>6.499,1,0)","v":0},0,0,0,null,0,0,0,0,0,0,null,null,null,null,null,null,null,null,null,{"$f":"IF(AA89>6.499,1,0)","v":0},{"$f":"IF(AB89>6.499,1,0)","v":0},0,0,0,null,0,0,0,0,0,0]
[]
[]
[null,null,null,null,"prima serie",{"$f":"SUM(F90:J90)","v":0},null,null,null,null,null,null,null,null,null,null,null,null,null,null,null,null,null,null,null,"prima serie",{"$f":"SUM(AA90:AE90)","v":0}]
[null,null,null,null,"oltranza 1",{"$f":"L90","v":0},null,null,null,null,null,null,null,null,null,null,null,null,null,null,null,null,null,null,null,"oltranza 1",{"$f":"AG90","v":0}]
[null,null,null,null,"oltranza 2",{"$f":"M90","v":0},null,null,null,null,null,null,null,null,null,null,null,null,null,null,null,null,null,null,null,"oltranza 2",{"$f":"AH90","v":0}]
[null,null,null,null,"oltranza 3",{"$f":"N90","v":0},null,null,null,null,null,null,null,null,null,null,null,null,null,null,null,null,null,null,null,"oltranza 3",{"$f":"AI90","v":0}]
[null,null,null,null,"oltranza 4",{"$f":"O90","v":0},null,null,null,null,null,null,null,null,null,null,null,null,null,null,null,null,null,null,null,"oltranza 4",{"$f":"AJ90","v":0}]
[null,null,null,null,"oltranza 5",{"$f":"P90","v":0},null,null,null,null,null,null,null,null,null,null,null,null,null,null,null,null,null,null,null,"oltranza 5",{"$f":"AK90","v":0}]
[null,null,null,null,"oltranza 6",{"$f":"Q90","v":0},null,null,null,null,null,null,null,null,null,null,null,null,null,null,null,null,null,null,null,"oltranza 6",{"$f":"AL90","v":0}]
[null,null,null,null,"oltranza 7",{"$f":"F91","v":0},null,null,null,null,null,null,null,null,null,null,null,null,null,null,null,null,null,null,null,"oltranza 7",{"$f":"AA91","v":0}]
[null,null,null,null,"oltranza 8",{"$f":"G91","v":0},null,null,null,null,null,null,null,null,null,null,null,null,null,null,null,null,null,null,null,"oltranza 8",{"$f":"AB91","v":0}]
[null,null,null,null,"oltranza 9",{"$f":"H91","v":0},null,null,null,null,null,null,null,null,null,null,null,null,null,null,null,null,null,null,null,"oltranza 9",{"$f":"AC91","v":0}]
[null,null,null,null,"oltranza 10",{"$f":"I91","v":0},null,null,null,null,null,null,null,null,null,null,null,null,null,null,null,null,null,null,null,"oltranza 10",{"$f":"AD91","v":0}]
[null,null,null,null,"oltranza 11",{"$f":"J91","v":0},null,null,null,null,null,null,null,null,null,null,null,null,null,null,null,null,null,null,null,"oltranza 11",{"$f":"AE91","v":0}]
[null,null,null,null,"oltranza 12",{"$f":"L91","v":0},null,null,null,null,null,null,null,null,null,null,null,null,null,null,null,null,null,null,null,"oltranza 12",{"$f":"AG91","v":0}]
[null,null,null,null,"oltranza 13",{"$f":"M91","v":0},null,null,null,null,null,null,null,null,null,null,null,null,null,null,null,null,null,null,null,"oltranza 13",{"$f":"AH91","v":0}]
[null,null,null,null,"oltranza 14",{"$f":"N91","v":0},null,null,null,null,null,null,null,null,null,null,null,null,null,null,null,null,null,null,null,"oltranza 14",{"$f":"AI91","v":0}]
[null,null,null,null,"oltranza 15",{"$f":"O91","v":0},null,null,null,null,null,null,null,null,null,null,null,null,null,null,null,null,null,null,null,"oltranza 15",{"$f":"AJ91","v":0}]
[null,null,null,null,"oltranza 16",{"$f":"P91","v":0},null,null,null,null,null,null,null,null,null,null,null,null,null,null,null,null,null,null,null,"oltranza 16",{"$f":"AK91","v":0}]
[null,null,null,null,"oltranza 17",{"$f":"Q91","v":0},null,null,null,null,null,null,null,null,null,null,null,null,null,null,null,null,null,null,null,"oltranza 17",{"$f":"AL91","v":0}]
[]
[null,null,null,null,"risultato finale",{"$f":"IF(F94=AA94,\"\",F94)","v":""},null,null,null,null,null,null,null,null,null,null,null,null,null,null,null,null,null,null,null,"risultato finale",{"$f":"IF(AA94=F94,\"\",AA94)","v":""}]
[null,null,null,null,null,{"$f":"IF(F94=AA94,IF(F95=AA95,\"\",SUM(F$94:F95)),\"\")","v":""},null,null,null,null,null,null,null,null,null,null,null,null,null,null,null,null,null,null,null,null,{"$f":"IF(AA94=F94,IF(AA95=F95,\"\",SUM(AA$94:AA95)),\"\")","v":""}]
[null,null,null,null,null,{"$f":"IF(F95=AA95,IF(F96=AA96,\"\",SUM(F$94:F96)),\"\")","v":""},null,null,null,null,null,null,null,null,null,null,null,null,null,null,null,null,null,null,null,null,{"$f":"IF(AA95=F95,IF(AA96=F96,\"\",SUM(AA$94:AA96)),\"\")","v":""}]
[null,null,null,null,null,{"$f":"IF(F96=AA96,IF(F97=AA97,\"\",SUM(F$94:F97)),\"\")","v":""},null,null,null,null,null,null,null,null,null,null,null,null,null,null,null,null,null,null,null,null,{"$f":"IF(AA96=F96,IF(AA97=F97,\"\",SUM(AA$94:AA97)),\"\")","v":""}]
[null,null,null,null,null,{"$f":"IF(F97=AA97,IF(F98=AA98,\"\",SUM(F$94:F98)),\"\")","v":""},null,null,null,null,null,null,null,null,null,null,null,null,null,null,null,null,null,null,null,null,{"$f":"IF(AA97=F97,IF(AA98=F98,\"\",SUM(AA$94:AA98)),\"\")","v":""}]
[null,null,null,null,null,{"$f":"IF(F98=AA98,IF(F99=AA99,\"\",SUM(F$94:F99)),\"\")","v":""},null,null,null,null,null,null,null,null,null,null,null,null,null,null,null,null,null,null,null,null,{"$f":"IF(AA98=F98,IF(AA99=F99,\"\",SUM(AA$94:AA99)),\"\")","v":""}]
[null,null,null,null,null,{"$f":"IF(F99=AA99,IF(F100=AA100,\"\",SUM(F$94:F100)),\"\")","v":""},null,null,null,null,null,null,null,null,null,null,null,null,null,null,null,null,null,null,null,null,{"$f":"IF(AA99=F99,IF(AA100=F100,\"\",SUM(AA$94:AA100)),\"\")","v":""}]
[null,null,null,null,null,{"$f":"IF(F100=AA100,IF(F101=AA101,\"\",SUM(F$94:F101)),\"\")","v":""},null,null,null,null,null,null,null,null,null,null,null,null,null,null,null,null,null,null,null,null,{"$f":"IF(AA100=F100,IF(AA101=F101,\"\",SUM(AA$94:AA101)),\"\")","v":""}]
[null,null,null,null,null,{"$f":"IF(F101=AA101,IF(F102=AA102,\"\",SUM(F$94:F102)),\"\")","v":""},null,null,null,null,null,null,null,null,null,null,null,null,null,null,null,null,null,null,null,null,{"$f":"IF(AA101=F101,IF(AA102=F102,\"\",SUM(AA$94:AA102)),\"\")","v":""}]
[null,null,null,null,null,{"$f":"IF(F102=AA102,IF(F103=AA103,\"\",SUM(F$94:F103)),\"\")","v":""},null,null,null,null,null,null,null,null,null,null,null,null,null,null,null,null,null,null,null,null,{"$f":"IF(AA102=F102,IF(AA103=F103,\"\",SUM(AA$94:AA103)),\"\")","v":""}]
[null,null,null,null,null,{"$f":"IF(F103=AA103,IF(F104=AA104,\"\",SUM(F$94:F104)),\"\")","v":""},null,null,null,null,null,null,null,null,null,null,null,null,null,null,null,null,null,null,null,null,{"$f":"IF(AA103=F103,IF(AA104=F104,\"\",SUM(AA$94:AA104)),\"\")","v":""}]
[null,null,null,null,null,{"$f":"IF(F104=AA104,IF(F105=AA105,\"\",SUM(F$94:F105)),\"\")","v":""},null,null,null,null,null,null,null,null,null,null,null,null,null,null,null,null,null,null,null,null,{"$f":"IF(AA104=F104,IF(AA105=F105,\"\",SUM(AA$94:AA105)),\"\")","v":""}]
[null,null,null,null,null,{"$f":"IF(F105=AA105,IF(F106=AA106,\"\",SUM(F$94:F106)),\"\")","v":""},null,null,null,null,null,null,null,null,null,null,null,null,null,null,null,null,null,null,null,null,{"$f":"IF(AA105=F105,IF(AA106=F106,\"\",SUM(AA$94:AA106)),\"\")","v":""}]
[null,null,null,null,null,{"$f":"IF(F106=AA106,IF(F107=AA107,\"\",SUM(F$94:F107)),\"\")","v":""},null,null,null,null,null,null,null,null,null,null,null,null,null,null,null,null,null,null,null,null,{"$f":"IF(AA106=F106,IF(AA107=F107,\"\",SUM(AA$94:AA107)),\"\")","v":""}]
[null,null,null,null,null,{"$f":"IF(F107=AA107,IF(F108=AA108,\"\",SUM(F$94:F108)),\"\")","v":""},null,null,null,null,null,null,null,null,null,null,null,null,null,null,null,null,null,null,null,null,{"$f":"IF(AA107=F107,IF(AA108=F108,\"\",SUM(AA$94:AA108)),\"\")","v":""}]
[null,null,null,null,null,{"$f":"IF(F108=AA108,IF(F109=AA109,\"\",SUM(F$94:F109)),\"\")","v":""},null,null,null,null,null,null,null,null,null,null,null,null,null,null,null,null,null,null,null,null,{"$f":"IF(AA108=F108,IF(AA109=F109,\"\",SUM(AA$94:AA109)),\"\")","v":""}]
[null,null,null,null,null,{"$f":"IF(F109=AA109,IF(F110=AA110,\"\",SUM(F$94:F110)),\"\")","v":""},null,null,null,null,null,null,null,null,null,null,null,null,null,null,null,null,null,null,null,null,{"$f":"IF(AA109=F109,IF(AA110=F110,\"\",SUM(AA$94:AA110)),\"\")","v":""}]
[null,null,null,null,null,{"$f":"IF(F110=AA110,IF(F111=AA111,\"\",SUM(F$94:F111)),\"\")","v":""},null,null,null,null,null,null,null,null,null,null,null,null,null,null,null,null,null,null,null,null,{"$f":"IF(AA110=F110,IF(AA111=F111,\"\",SUM(AA$94:AA111)),\"\")","v":""}]
[]
[]
[]
[null,null,null,null,"totale",{"$f":"MIN(F113:F133)","v":0},null,null,null,null,null,null,null,null,null,null,null,null,null,null,null,null,null,null,null,"totale",{"$f":"MIN(AA113:AA133)","v":0}]